Package: fCI Version: 1.37.0 Command: chmod a+r fCI -R && E:\biocbuild\bbs-3.21-bioc\R\bin\R.exe CMD build --keep-empty-dirs --no-resave-data fCI StartedAt: 2025-02-20 18:44:39 -0500 (Thu, 20 Feb 2025) EndedAt: 2025-02-20 18:45:38 -0500 (Thu, 20 Feb 2025) EllapsedTime: 58.9 seconds RetCode: 0 Status: OK PackageFile: fCI_1.37.0.tar.gz PackageFileSize: 1.079 MiB