Package: fCI Version: 1.37.0 Command: rm -rf fCI.buildbin-libdir && mkdir fCI.buildbin-libdir && E:\biocbuild\bbs-3.21-bioc\R\bin\R.exe CMD INSTALL --build --library=fCI.buildbin-libdir fCI_1.37.0.tar.gz StartedAt: 2025-02-21 08:05:37 -0500 (Fri, 21 Feb 2025) EndedAt: 2025-02-21 08:06:14 -0500 (Fri, 21 Feb 2025) EllapsedTime: 37.1 seconds RetCode: 0 Status: OK PackageFile: fCI_1.37.0.zip PackageFileSize: 1.311 MiB