Package: fCI Version: 1.37.0 Command: /Library/Frameworks/R.framework/Resources/bin/R CMD INSTALL fCI StartedAt: 2025-02-20 15:23:27 -0500 (Thu, 20 Feb 2025) EndedAt: 2025-02-20 15:23:36 -0500 (Thu, 20 Feb 2025) EllapsedTime: 9.1 seconds RetCode: 0 Status: OK