Package: fCI Version: 1.37.0 Command: /home/biocbuild/R/R/bin/R CMD build --keep-empty-dirs --no-resave-data fCI StartedAt: 2025-01-28 22:52:12 -0000 (Tue, 28 Jan 2025) EndedAt: 2025-01-28 22:53:03 -0000 (Tue, 28 Jan 2025) EllapsedTime: 51.1 seconds RetCode: 0 Status: OK PackageFile: fCI_1.37.0.tar.gz PackageFileSize: 1.167 MiB