Package: fCI Version: 1.37.0 Command: /Library/Frameworks/R.framework/Resources/bin/R CMD build --keep-empty-dirs --no-resave-data fCI StartedAt: 2025-02-20 16:20:04 -0500 (Thu, 20 Feb 2025) EndedAt: 2025-02-20 16:20:17 -0500 (Thu, 20 Feb 2025) EllapsedTime: 13.1 seconds RetCode: 0 Status: OK PackageFile: fCI_1.37.0.tar.gz PackageFileSize: 1.319 MiB