Package: fCCAC Version: 1.33.0 Command: E:\biocbuild\bbs-3.21-bioc\R\bin\R.exe CMD INSTALL fCCAC StartedAt: 2025-02-19 17:02:06 -0500 (Wed, 19 Feb 2025) EndedAt: 2025-02-19 17:02:47 -0500 (Wed, 19 Feb 2025) EllapsedTime: 41.5 seconds RetCode: 0 Status: OK