Package: fCCAC Version: 1.33.0 Command: /Library/Frameworks/R.framework/Resources/bin/R CMD check --install=check:fCCAC.install-out.txt --library=/Library/Frameworks/R.framework/Resources/library --no-vignettes --timings fCCAC_1.33.0.tar.gz StartedAt: 2025-02-20 20:25:11 -0500 (Thu, 20 Feb 2025) EndedAt: 2025-02-20 20:30:15 -0500 (Thu, 20 Feb 2025) EllapsedTime: 304.0 seconds RetCode: 0 Status: OK CheckDir: fCCAC.Rcheck Warnings: 0