Package: fCCAC Version: 1.33.0 Command: /Library/Frameworks/R.framework/Resources/bin/R CMD build --keep-empty-dirs --no-resave-data fCCAC StartedAt: 2025-02-20 16:40:39 -0500 (Thu, 20 Feb 2025) EndedAt: 2025-02-20 16:41:55 -0500 (Thu, 20 Feb 2025) EllapsedTime: 76.3 seconds RetCode: 0 Status: OK PackageFile: fCCAC_1.33.0.tar.gz PackageFileSize: 3.499 MiB