Package: extraChIPs Version: 1.11.0 Command: /home/biocbuild/bbs-3.21-bioc/R/bin/R CMD INSTALL extraChIPs StartedAt: 2025-02-20 16:07:33 -0500 (Thu, 20 Feb 2025) EndedAt: 2025-02-20 16:08:28 -0500 (Thu, 20 Feb 2025) EllapsedTime: 55.1 seconds RetCode: 0 Status: OK