Package: extraChIPs Version: 1.11.0 Command: /home/biocbuild/bbs-3.21-bioc/R/bin/R CMD check --install=check:extraChIPs.install-out.txt --library=/home/biocbuild/bbs-3.21-bioc/R/site-library --timings extraChIPs_1.11.0.tar.gz StartedAt: 2025-02-20 21:57:56 -0500 (Thu, 20 Feb 2025) EndedAt: 2025-02-20 22:07:31 -0500 (Thu, 20 Feb 2025) EllapsedTime: 575.0 seconds RetCode: 0 Status: OK CheckDir: extraChIPs.Rcheck Warnings: 0