Package: extraChIPs Version: 1.11.0 Command: /Library/Frameworks/R.framework/Resources/bin/R CMD build --keep-empty-dirs --no-resave-data extraChIPs StartedAt: 2025-02-20 16:19:25 -0500 (Thu, 20 Feb 2025) EndedAt: 2025-02-20 16:20:11 -0500 (Thu, 20 Feb 2025) EllapsedTime: 46.4 seconds RetCode: 0 Status: OK PackageFile: extraChIPs_1.11.0.tar.gz PackageFileSize: 3.828 MiB