Package: eudysbiome Version: 1.37.0 Command: /home/biocbuild/bbs-3.21-bioc/R/bin/R CMD check --install=check:eudysbiome.install-out.txt --library=/home/biocbuild/bbs-3.21-bioc/R/site-library --timings eudysbiome_1.37.0.tar.gz StartedAt: 2025-02-20 21:54:06 -0500 (Thu, 20 Feb 2025) EndedAt: 2025-02-20 21:56:15 -0500 (Thu, 20 Feb 2025) EllapsedTime: 129.1 seconds RetCode: 0 Status: OK CheckDir: eudysbiome.Rcheck Warnings: 0