Package: eudysbiome Version: 1.37.0 Command: /Library/Frameworks/R.framework/Resources/bin/R CMD check --install=check:eudysbiome.install-out.txt --library=/Library/Frameworks/R.framework/Resources/library --no-vignettes --timings eudysbiome_1.37.0.tar.gz StartedAt: 2025-02-20 20:20:56 -0500 (Thu, 20 Feb 2025) EndedAt: 2025-02-20 20:22:54 -0500 (Thu, 20 Feb 2025) EllapsedTime: 118.3 seconds RetCode: 0 Status: OK CheckDir: eudysbiome.Rcheck Warnings: 0