Package: eudysbiome Version: 1.37.0 Command: /Library/Frameworks/R.framework/Resources/bin/R CMD build --keep-empty-dirs --no-resave-data eudysbiome StartedAt: 2025-02-20 16:39:02 -0500 (Thu, 20 Feb 2025) EndedAt: 2025-02-20 16:39:25 -0500 (Thu, 20 Feb 2025) EllapsedTime: 22.9 seconds RetCode: 0 Status: OK PackageFile: eudysbiome_1.37.0.tar.gz PackageFileSize: 4.377 MiB