Package: esetVis Version: 1.33.0 Command: chmod a+r esetVis -R && E:\biocbuild\bbs-3.21-bioc\R\bin\R.exe CMD build --keep-empty-dirs --no-resave-data esetVis StartedAt: 2025-02-19 18:39:30 -0500 (Wed, 19 Feb 2025) EndedAt: 2025-02-19 18:41:59 -0500 (Wed, 19 Feb 2025) EllapsedTime: 149.3 seconds RetCode: 0 Status: OK PackageFile: esetVis_1.33.0.tar.gz PackageFileSize: 2.485 MiB