Package: esetVis Version: 1.33.0 Command: /Library/Frameworks/R.framework/Resources/bin/R CMD INSTALL esetVis StartedAt: 2025-02-20 15:15:32 -0500 (Thu, 20 Feb 2025) EndedAt: 2025-02-20 15:15:55 -0500 (Thu, 20 Feb 2025) EllapsedTime: 22.6 seconds RetCode: 0 Status: OK