Package: esetVis Version: 1.33.0 Command: rm -rf esetVis.buildbin-libdir && mkdir esetVis.buildbin-libdir && /Users/biocbuild/BBS/utils/build-universal.sh esetVis_1.33.0.tar.gz /Library/Frameworks/R.framework/Resources/bin/R esetVis.buildbin-libdir StartedAt: 2025-02-21 00:30:10 -0500 (Fri, 21 Feb 2025) EndedAt: 2025-02-21 00:30:33 -0500 (Fri, 21 Feb 2025) EllapsedTime: 23.1 seconds RetCode: 0 Status: OK PackageFile: esetVis_1.33.0.tgz PackageFileSize: 4.619 MiB