Package: escape Version: 2.3.0 Command: chmod a+r escape -R && E:\biocbuild\bbs-3.21-bioc\R\bin\R.exe CMD build --keep-empty-dirs --no-resave-data escape StartedAt: 2025-02-18 18:35:56 -0500 (Tue, 18 Feb 2025) EndedAt: 2025-02-18 18:37:47 -0500 (Tue, 18 Feb 2025) EllapsedTime: 111.3 seconds RetCode: 0 Status: OK PackageFile: escape_2.3.0.tar.gz PackageFileSize: 3.09 MiB