Package: escape Version: 2.3.0 Command: /Library/Frameworks/R.framework/Resources/bin/R CMD INSTALL escape StartedAt: 2025-02-18 15:39:05 -0500 (Tue, 18 Feb 2025) EndedAt: 2025-02-18 15:40:02 -0500 (Tue, 18 Feb 2025) EllapsedTime: 56.9 seconds RetCode: 0 Status: OK