Package: escape Version: 2.3.0 Command: /Library/Frameworks/R.framework/Resources/bin/R CMD build --keep-empty-dirs --no-resave-data escape StartedAt: 2025-02-20 16:18:34 -0500 (Thu, 20 Feb 2025) EndedAt: 2025-02-20 16:19:06 -0500 (Thu, 20 Feb 2025) EllapsedTime: 32.3 seconds RetCode: 0 Status: OK PackageFile: escape_2.3.0.tar.gz PackageFileSize: 4.003 MiB