Package: escape Version: 2.3.0 Command: rm -rf escape.buildbin-libdir && mkdir escape.buildbin-libdir && /Users/biocbuild/BBS/utils/build-universal.sh escape_2.3.0.tar.gz /Library/Frameworks/R.framework/Resources/bin/R escape.buildbin-libdir StartedAt: 2025-02-20 22:18:24 -0500 (Thu, 20 Feb 2025) EndedAt: 2025-02-20 22:18:43 -0500 (Thu, 20 Feb 2025) EllapsedTime: 19.4 seconds RetCode: 0 Status: OK PackageFile: escape_2.3.0.tgz PackageFileSize: 1.758 MiB