Package: esATAC Version: 1.29.0 Command: chmod a+r esATAC -R && E:\biocbuild\bbs-3.21-bioc\R\bin\R.exe CMD build --keep-empty-dirs --no-resave-data esATAC StartedAt: 2025-02-19 18:38:27 -0500 (Wed, 19 Feb 2025) EndedAt: 2025-02-19 18:40:41 -0500 (Wed, 19 Feb 2025) EllapsedTime: 134.7 seconds RetCode: 0 Status: OK PackageFile: esATAC_1.29.0.tar.gz PackageFileSize: 9.863 MiB