Package: esATAC Version: 1.29.0 Command: rm -rf esATAC.buildbin-libdir && mkdir esATAC.buildbin-libdir && E:\biocbuild\bbs-3.21-bioc\R\bin\R.exe CMD INSTALL --build --library=esATAC.buildbin-libdir esATAC_1.29.0.tar.gz StartedAt: 2025-02-20 07:45:53 -0500 (Thu, 20 Feb 2025) EndedAt: 2025-02-20 07:48:30 -0500 (Thu, 20 Feb 2025) EllapsedTime: 156.4 seconds RetCode: 0 Status: OK PackageFile: esATAC_1.29.0.zip PackageFileSize: 8.526 MiB