Package: esATAC Version: 1.29.0 Command: /home/biocbuild/R/R/bin/R CMD build --keep-empty-dirs --no-resave-data esATAC StartedAt: 2025-01-28 22:48:30 -0000 (Tue, 28 Jan 2025) EndedAt: 2025-01-28 22:50:42 -0000 (Tue, 28 Jan 2025) EllapsedTime: 132.1 seconds RetCode: 0 Status: OK PackageFile: esATAC_1.29.0.tar.gz PackageFileSize: 9.864 MiB