Package: esATAC Version: 1.29.0 Command: /Library/Frameworks/R.framework/Resources/bin/R CMD build --keep-empty-dirs --no-resave-data esATAC StartedAt: 2025-02-20 16:18:25 -0500 (Thu, 20 Feb 2025) EndedAt: 2025-02-20 16:18:59 -0500 (Thu, 20 Feb 2025) EllapsedTime: 34.4 seconds RetCode: 0 Status: OK PackageFile: esATAC_1.29.0.tar.gz PackageFileSize: 9.863 MiB