Package: erma Version: 1.23.0 Command: E:\biocbuild\bbs-3.21-bioc\R\bin\R.exe CMD INSTALL erma StartedAt: 2025-02-20 16:33:47 -0500 (Thu, 20 Feb 2025) EndedAt: 2025-02-20 16:35:02 -0500 (Thu, 20 Feb 2025) EllapsedTime: 74.8 seconds RetCode: 0 Status: OK