Package: erma Version: 1.23.0 Command: /Library/Frameworks/R.framework/Resources/bin/R CMD INSTALL erma StartedAt: 2025-02-20 15:23:46 -0500 (Thu, 20 Feb 2025) EndedAt: 2025-02-20 15:24:50 -0500 (Thu, 20 Feb 2025) EllapsedTime: 64.5 seconds RetCode: 0 Status: OK