Package: erma Version: 1.23.0 Command: /Library/Frameworks/R.framework/Resources/bin/R CMD build --keep-empty-dirs --no-resave-data erma StartedAt: 2025-02-20 16:38:22 -0500 (Thu, 20 Feb 2025) EndedAt: 2025-02-20 16:40:03 -0500 (Thu, 20 Feb 2025) EllapsedTime: 100.5 seconds RetCode: 0 Status: OK PackageFile: erma_1.23.0.tar.gz PackageFileSize: 198.1 MiB