Package: erma Version: 1.23.0 Command: /Library/Frameworks/R.framework/Resources/bin/R CMD INSTALL erma StartedAt: 2025-02-20 15:15:16 -0500 (Thu, 20 Feb 2025) EndedAt: 2025-02-20 15:15:36 -0500 (Thu, 20 Feb 2025) EllapsedTime: 20.2 seconds RetCode: 0 Status: OK