Package: epivizrStandalone Version: 1.35.0 Command: /home/biocbuild/bbs-3.21-bioc/R/bin/R CMD check --install=check:epivizrStandalone.install-out.txt --library=/home/biocbuild/bbs-3.21-bioc/R/site-library --timings epivizrStandalone_1.35.0.tar.gz StartedAt: 2025-02-18 21:55:45 -0500 (Tue, 18 Feb 2025) EndedAt: 2025-02-18 22:01:14 -0500 (Tue, 18 Feb 2025) EllapsedTime: 328.4 seconds RetCode: 0 Status: WARNINGS CheckDir: epivizrStandalone.Rcheck Warnings: 2