Package: epivizrStandalone Version: 1.35.0 Command: /home/biocbuild/bbs-3.21-bioc/R/bin/R CMD build --keep-empty-dirs --no-resave-data epivizrStandalone StartedAt: 2025-02-18 17:06:10 -0500 (Tue, 18 Feb 2025) EndedAt: 2025-02-18 17:06:53 -0500 (Tue, 18 Feb 2025) EllapsedTime: 43.0 seconds RetCode: 0 Status: OK PackageFile: epivizrStandalone_1.35.0.tar.gz PackageFileSize: 220 KiB