Package: epivizrStandalone Version: 1.35.0 Command: /Library/Frameworks/R.framework/Resources/bin/R CMD check --install=check:epivizrStandalone.install-out.txt --library=/Library/Frameworks/R.framework/Resources/library --no-vignettes --timings epivizrStandalone_1.35.0.tar.gz StartedAt: 2025-02-18 20:14:33 -0500 (Tue, 18 Feb 2025) EndedAt: 2025-02-18 20:20:33 -0500 (Tue, 18 Feb 2025) EllapsedTime: 359.4 seconds RetCode: 0 Status: WARNINGS CheckDir: epivizrStandalone.Rcheck Warnings: 2