Package: epivizrServer Version: 1.35.0 Command: rm -rf epivizrServer.buildbin-libdir && mkdir epivizrServer.buildbin-libdir && E:\biocbuild\bbs-3.21-bioc\R\bin\R.exe CMD INSTALL --build --library=epivizrServer.buildbin-libdir epivizrServer_1.35.0.tar.gz StartedAt: 2025-02-21 08:03:56 -0500 (Fri, 21 Feb 2025) EndedAt: 2025-02-21 08:04:18 -0500 (Fri, 21 Feb 2025) EllapsedTime: 22.1 seconds RetCode: 0 Status: OK PackageFile: epivizrServer_1.35.0.zip PackageFileSize: 460.6 KiB