Package: epivizrServer Version: 1.35.0 Command: /home/biocbuild/bbs-3.21-bioc/R/bin/R CMD check --install=check:epivizrServer.install-out.txt --library=/home/biocbuild/bbs-3.21-bioc/R/site-library --timings epivizrServer_1.35.0.tar.gz StartedAt: 2025-02-20 21:51:49 -0500 (Thu, 20 Feb 2025) EndedAt: 2025-02-20 21:52:11 -0500 (Thu, 20 Feb 2025) EllapsedTime: 22.0 seconds RetCode: 0 Status: WARNINGS CheckDir: epivizrServer.Rcheck Warnings: 1