Package: epivizrServer Version: 1.35.0 Command: /Library/Frameworks/R.framework/Resources/bin/R CMD INSTALL epivizrServer StartedAt: 2025-02-20 15:03:04 -0500 (Thu, 20 Feb 2025) EndedAt: 2025-02-20 15:03:10 -0500 (Thu, 20 Feb 2025) EllapsedTime: 6.0 seconds RetCode: 0 Status: OK