Package: epivizrData Version: 1.35.0 Command: E:\biocbuild\bbs-3.21-bioc\R\bin\R.exe CMD INSTALL epivizrData StartedAt: 2025-02-20 16:22:39 -0500 (Thu, 20 Feb 2025) EndedAt: 2025-02-20 16:23:45 -0500 (Thu, 20 Feb 2025) EllapsedTime: 65.6 seconds RetCode: 0 Status: OK