Package: epivizrData Version: 1.35.0 Command: /home/biocbuild/bbs-3.21-bioc/R/bin/R CMD check --install=check:epivizrData.install-out.txt --library=/home/biocbuild/bbs-3.21-bioc/R/site-library --timings epivizrData_1.35.0.tar.gz StartedAt: 2025-02-20 21:51:45 -0500 (Thu, 20 Feb 2025) EndedAt: 2025-02-20 21:57:36 -0500 (Thu, 20 Feb 2025) EllapsedTime: 351.4 seconds RetCode: 0 Status: OK CheckDir: epivizrData.Rcheck Warnings: 0