Package: epivizrData Version: 1.35.0 Command: /Library/Frameworks/R.framework/Resources/bin/R CMD check --install=check:epivizrData.install-out.txt --library=/Library/Frameworks/R.framework/Resources/library --no-vignettes --timings epivizrData_1.35.0.tar.gz StartedAt: 2025-02-20 20:19:01 -0500 (Thu, 20 Feb 2025) EndedAt: 2025-02-20 20:25:01 -0500 (Thu, 20 Feb 2025) EllapsedTime: 359.6 seconds RetCode: 0 Status: OK CheckDir: epivizrData.Rcheck Warnings: 0