Package: epivizrChart Version: 1.29.0 Command: /home/biocbuild/R/R/bin/R CMD check --install=check:epivizrChart.install-out.txt --library=/home/biocbuild/R/R/site-library --no-vignettes --timings epivizrChart_1.29.0.tar.gz StartedAt: 2025-01-28 10:25:10 -0000 (Tue, 28 Jan 2025) EndedAt: 2025-01-28 10:32:22 -0000 (Tue, 28 Jan 2025) EllapsedTime: 432.4 seconds RetCode: 0 Status: WARNINGS CheckDir: epivizrChart.Rcheck Warnings: 5