Package: epivizrChart Version: 1.29.0 Command: /Library/Frameworks/R.framework/Resources/bin/R CMD INSTALL epivizrChart StartedAt: 2025-02-21 15:14:32 -0500 (Fri, 21 Feb 2025) EndedAt: 2025-02-21 15:14:51 -0500 (Fri, 21 Feb 2025) EllapsedTime: 19.4 seconds RetCode: 0 Status: OK