Package: epivizr Version: 2.37.0 Command: E:\biocbuild\bbs-3.21-bioc\R\bin\R.exe CMD INSTALL epivizr StartedAt: 2025-02-19 16:04:40 -0500 (Wed, 19 Feb 2025) EndedAt: 2025-02-19 16:06:02 -0500 (Wed, 19 Feb 2025) EllapsedTime: 81.8 seconds RetCode: 0 Status: OK