Package: epistasisGA Version: 1.9.0 Command: E:\biocbuild\bbs-3.21-bioc\R\bin\R.exe CMD check --no-multiarch --install=check:epistasisGA.install-out.txt --library=E:\biocbuild\bbs-3.21-bioc\R\library --no-vignettes --timings epistasisGA_1.9.0.tar.gz StartedAt: 2025-02-21 01:07:41 -0500 (Fri, 21 Feb 2025) EndedAt: 2025-02-21 01:13:56 -0500 (Fri, 21 Feb 2025) EllapsedTime: 374.7 seconds RetCode: 0 Status: OK CheckDir: epistasisGA.Rcheck Warnings: 0