Package: epistasisGA Version: 1.9.0 Command: rm -rf epistasisGA.buildbin-libdir && mkdir epistasisGA.buildbin-libdir && E:\biocbuild\bbs-3.21-bioc\R\bin\R.exe CMD INSTALL --build --library=epistasisGA.buildbin-libdir epistasisGA_1.9.0.tar.gz StartedAt: 2025-02-21 08:03:41 -0500 (Fri, 21 Feb 2025) EndedAt: 2025-02-21 08:05:44 -0500 (Fri, 21 Feb 2025) EllapsedTime: 122.0 seconds RetCode: 0 Status: OK PackageFile: epistasisGA_1.9.0.zip PackageFileSize: 1.957 MiB