Package: epistasisGA Version: 1.9.0 Command: /Library/Frameworks/R.framework/Resources/bin/R CMD check --install=check:epistasisGA.install-out.txt --library=/Library/Frameworks/R.framework/Resources/library --no-vignettes --timings epistasisGA_1.9.0.tar.gz StartedAt: 2025-02-20 20:18:05 -0500 (Thu, 20 Feb 2025) EndedAt: 2025-02-20 20:20:53 -0500 (Thu, 20 Feb 2025) EllapsedTime: 168.4 seconds RetCode: 0 Status: OK CheckDir: epistasisGA.Rcheck Warnings: 0