Package: epistasisGA Version: 1.9.0 Command: rm -rf epistasisGA.buildbin-libdir && mkdir epistasisGA.buildbin-libdir && /Users/biocbuild/BBS/utils/build-universal.sh epistasisGA_1.9.0.tar.gz /Library/Frameworks/R.framework/Resources/bin/R epistasisGA.buildbin-libdir StartedAt: 2025-02-21 00:29:52 -0500 (Fri, 21 Feb 2025) EndedAt: 2025-02-21 00:30:43 -0500 (Fri, 21 Feb 2025) EllapsedTime: 50.8 seconds RetCode: 0 Status: OK PackageFile: epistasisGA_1.9.0.tgz PackageFileSize: 2.409 MiB