Package: epistack Version: 1.13.0 Command: /Library/Frameworks/R.framework/Resources/bin/R CMD build --keep-empty-dirs --no-resave-data epistack StartedAt: 2025-02-18 16:36:17 -0500 (Tue, 18 Feb 2025) EndedAt: 2025-02-18 16:37:52 -0500 (Tue, 18 Feb 2025) EllapsedTime: 95.8 seconds RetCode: 0 Status: OK PackageFile: epistack_1.13.0.tar.gz PackageFileSize: 3.944 MiB