Package: epiregulon Version: 1.3.5 Command: E:\biocbuild\bbs-3.21-bioc\R\bin\R.exe CMD INSTALL epiregulon StartedAt: 2025-02-20 16:50:26 -0500 (Thu, 20 Feb 2025) EndedAt: 2025-02-20 16:51:31 -0500 (Thu, 20 Feb 2025) EllapsedTime: 65.0 seconds RetCode: 0 Status: OK