Package: epiregulon Version: 1.3.5 Command: chmod a+r epiregulon -R && E:\biocbuild\bbs-3.21-bioc\R\bin\R.exe CMD build --keep-empty-dirs --no-resave-data epiregulon StartedAt: 2025-02-20 18:38:18 -0500 (Thu, 20 Feb 2025) EndedAt: 2025-02-20 18:43:01 -0500 (Thu, 20 Feb 2025) EllapsedTime: 283.2 seconds RetCode: 0 Status: OK PackageFile: epiregulon_1.3.5.tar.gz PackageFileSize: 714.3 KiB