Package: epiregulon Version: 1.3.5 Command: rm -rf epiregulon.buildbin-libdir && mkdir epiregulon.buildbin-libdir && E:\biocbuild\bbs-3.21-bioc\R\bin\R.exe CMD INSTALL --build --library=epiregulon.buildbin-libdir epiregulon_1.3.5.tar.gz StartedAt: 2025-02-21 08:03:35 -0500 (Fri, 21 Feb 2025) EndedAt: 2025-02-21 08:04:49 -0500 (Fri, 21 Feb 2025) EllapsedTime: 73.8 seconds RetCode: 0 Status: OK PackageFile: epiregulon_1.3.5.zip PackageFileSize: 1.145 MiB