Package: epiregulon Version: 1.3.5 Command: /Library/Frameworks/R.framework/Resources/bin/R CMD INSTALL epiregulon StartedAt: 2025-02-20 15:25:35 -0500 (Thu, 20 Feb 2025) EndedAt: 2025-02-20 15:25:48 -0500 (Thu, 20 Feb 2025) EllapsedTime: 13.5 seconds RetCode: 0 Status: OK